Package: biomaRt Version: 2.56.1 Command: /home/biocbuild/bbs-3.17-bioc/R/bin/R CMD build --keep-empty-dirs --no-resave-data biomaRt StartedAt: 2023-10-15 16:06:12 -0400 (Sun, 15 Oct 2023) EndedAt: 2023-10-15 16:07:41 -0400 (Sun, 15 Oct 2023) EllapsedTime: 88.6 seconds RetCode: 0 Status: OK PackageFile: biomaRt_2.56.1.tar.gz PackageFileSize: 653.7 KiB