Package: biodbMirbase Version: 1.4.1 Command: F:\biocbuild\bbs-3.17-bioc\R\bin\R.exe CMD INSTALL biodbMirbase StartedAt: 2023-10-15 16:48:39 -0400 (Sun, 15 Oct 2023) EndedAt: 2023-10-15 16:48:49 -0400 (Sun, 15 Oct 2023) EllapsedTime: 9.8 seconds RetCode: 0 Status: OK