Package: biodbMirbase Version: 1.4.1 Command: /Library/Frameworks/R.framework/Resources/bin/R CMD INSTALL biodbMirbase StartedAt: 2023-10-15 16:12:40 -0400 (Sun, 15 Oct 2023) EndedAt: 2023-10-15 16:13:03 -0400 (Sun, 15 Oct 2023) EllapsedTime: 22.9 seconds RetCode: 0 Status: OK