Package: biodbMirbase Version: 1.4.1 Command: /Library/Frameworks/R.framework/Resources/bin/R CMD build --keep-empty-dirs --no-resave-data biodbMirbase StartedAt: 2023-10-15 17:01:58 -0400 (Sun, 15 Oct 2023) EndedAt: 2023-10-15 17:02:25 -0400 (Sun, 15 Oct 2023) EllapsedTime: 27.2 seconds RetCode: 1 Status: ERROR PackageFile: None PackageFileSize: NA