Package: biodbMirbase Version: 1.4.0 Command: rm -rf biodbMirbase.buildbin-libdir && mkdir biodbMirbase.buildbin-libdir && /Users/biocbuild/BBS/utils/build-universal.sh biodbMirbase_1.4.0.tar.gz /Library/Frameworks/R.framework/Resources/bin/R biodbMirbase.buildbin-libdir StartedAt: 2023-07-21 09:24:53 -0400 (Fri, 21 Jul 2023) EndedAt: 2023-07-21 09:25:18 -0400 (Fri, 21 Jul 2023) EllapsedTime: 25.6 seconds RetCode: 0 Status: OK PackageFile: biodbMirbase_1.4.0.tgz PackageFileSize: 379.2 KiB