Package: biodbExpasy Version: 1.4.0 Command: /Library/Frameworks/R.framework/Resources/bin/R CMD check --install=check:biodbExpasy.install-out.txt --library=/Library/Frameworks/R.framework/Resources/library --no-vignettes --timings biodbExpasy_1.4.0.tar.gz StartedAt: 2023-10-15 23:06:45 -0400 (Sun, 15 Oct 2023) EndedAt: 2023-10-15 23:09:14 -0400 (Sun, 15 Oct 2023) EllapsedTime: 148.5 seconds RetCode: 0 Status: OK CheckDir: biodbExpasy.Rcheck Warnings: 0