Package: biocViews Version: 1.68.2 Command: /Library/Frameworks/R.framework/Resources/bin/R CMD check --install=check:biocViews.install-out.txt --library=/Library/Frameworks/R.framework/Resources/library --no-vignettes --timings biocViews_1.68.2.tar.gz StartedAt: 2023-10-15 23:06:04 -0400 (Sun, 15 Oct 2023) EndedAt: 2023-10-15 23:08:15 -0400 (Sun, 15 Oct 2023) EllapsedTime: 131.7 seconds RetCode: 0 Status: OK CheckDir: biocViews.Rcheck Warnings: 0