Package: biocViews Version: 1.68.2 Command: rm -rf biocViews.buildbin-libdir && mkdir biocViews.buildbin-libdir && /Users/biocbuild/BBS/utils/build-universal.sh biocViews_1.68.2.tar.gz /Library/Frameworks/R.framework/Resources/bin/R biocViews.buildbin-libdir StartedAt: 2023-10-16 09:02:21 -0400 (Mon, 16 Oct 2023) EndedAt: 2023-10-16 09:02:53 -0400 (Mon, 16 Oct 2023) EllapsedTime: 31.7 seconds RetCode: 0 Status: OK PackageFile: biocViews_1.68.2.tgz PackageFileSize: 880.1 KiB