Package: biobroom Version: 1.32.0 Command: F:\biocbuild\bbs-3.17-bioc\R\bin\R.exe CMD INSTALL biobroom StartedAt: 2023-10-15 15:53:23 -0400 (Sun, 15 Oct 2023) EndedAt: 2023-10-15 15:53:32 -0400 (Sun, 15 Oct 2023) EllapsedTime: 9.3 seconds RetCode: 0 Status: OK