Package: biobroom Version: 1.32.0 Command: chmod a+r biobroom -R && F:\biocbuild\bbs-3.17-bioc\R\bin\R.exe CMD build --keep-empty-dirs --no-resave-data biobroom StartedAt: 2023-10-15 17:37:10 -0400 (Sun, 15 Oct 2023) EndedAt: 2023-10-15 17:38:09 -0400 (Sun, 15 Oct 2023) EllapsedTime: 58.3 seconds RetCode: 0 Status: OK PackageFile: biobroom_1.32.0.tar.gz PackageFileSize: 371.5 KiB