Package: bigmelon Version: 1.26.0 Command: F:\biocbuild\bbs-3.17-bioc\R\bin\R.exe CMD INSTALL bigmelon StartedAt: 2023-10-15 17:00:04 -0400 (Sun, 15 Oct 2023) EndedAt: 2023-10-15 17:01:11 -0400 (Sun, 15 Oct 2023) EllapsedTime: 66.5 seconds RetCode: 0 Status: OK