Package: bandle Version: 1.4.1 Command: F:\biocbuild\bbs-3.17-bioc\R\bin\R.exe CMD check --no-multiarch --install=check:bandle.install-out.txt --library=F:\biocbuild\bbs-3.17-bioc\R\library --no-vignettes --timings bandle_1.4.1.tar.gz StartedAt: 2023-10-15 23:39:01 -0400 (Sun, 15 Oct 2023) EndedAt: 2023-10-15 23:48:04 -0400 (Sun, 15 Oct 2023) EllapsedTime: 543.7 seconds RetCode: 0 Status: OK CheckDir: bandle.Rcheck Warnings: 0