Package: bambu Version: 3.2.6 Command: F:\biocbuild\bbs-3.17-bioc\R\bin\R.exe CMD INSTALL bambu StartedAt: 2023-10-15 16:25:36 -0400 (Sun, 15 Oct 2023) EndedAt: 2023-10-15 16:26:48 -0400 (Sun, 15 Oct 2023) EllapsedTime: 71.9 seconds RetCode: 0 Status: OK