Package: bambu Version: 3.2.6 Command: /home/biocbuild/bbs-3.17-bioc/R/bin/R CMD check --install=check:bambu.install-out.txt --library=/home/biocbuild/bbs-3.17-bioc/R/site-library --timings bambu_3.2.6.tar.gz StartedAt: 2023-10-15 19:20:05 -0400 (Sun, 15 Oct 2023) EndedAt: 2023-10-15 19:40:20 -0400 (Sun, 15 Oct 2023) EllapsedTime: 1214.9 seconds RetCode: 0 Status: OK CheckDir: bambu.Rcheck Warnings: 0