Package: bambu Version: 3.2.6 Command: /home/biocbuild/bbs-3.17-bioc/R/bin/R CMD build --keep-empty-dirs --no-resave-data bambu StartedAt: 2023-10-15 15:59:03 -0400 (Sun, 15 Oct 2023) EndedAt: 2023-10-15 16:11:59 -0400 (Sun, 15 Oct 2023) EllapsedTime: 775.6 seconds RetCode: 0 Status: OK PackageFile: bambu_3.2.6.tar.gz PackageFileSize: 2.197 MiB