Package: bambu Version: 3.2.6 Command: /Library/Frameworks/R.framework/Resources/bin/R CMD INSTALL bambu StartedAt: 2023-10-15 15:35:50 -0400 (Sun, 15 Oct 2023) EndedAt: 2023-10-15 15:38:59 -0400 (Sun, 15 Oct 2023) EllapsedTime: 189.7 seconds RetCode: 0 Status: OK