Package: bambu Version: 3.2.6 Command: /Library/Frameworks/R.framework/Resources/bin/R CMD check --install=check:bambu.install-out.txt --library=/Library/Frameworks/R.framework/Resources/library --no-vignettes --timings bambu_3.2.6.tar.gz StartedAt: 2023-10-15 22:42:55 -0400 (Sun, 15 Oct 2023) EndedAt: 2023-10-15 23:03:36 -0400 (Sun, 15 Oct 2023) EllapsedTime: 1241.6 seconds RetCode: 0 Status: OK CheckDir: bambu.Rcheck Warnings: 0