Package: bacon Version: 1.28.0 Command: chmod a+r bacon -R && F:\biocbuild\bbs-3.17-bioc\R\bin\R.exe CMD build --keep-empty-dirs --no-resave-data bacon StartedAt: 2023-10-15 17:26:36 -0400 (Sun, 15 Oct 2023) EndedAt: 2023-10-15 17:27:23 -0400 (Sun, 15 Oct 2023) EllapsedTime: 47.2 seconds RetCode: 0 Status: OK PackageFile: bacon_1.28.0.tar.gz PackageFileSize: 583.2 KiB