Package: bacon Version: 1.28.0 Command: rm -rf bacon.buildbin-libdir && mkdir bacon.buildbin-libdir && F:\biocbuild\bbs-3.17-bioc\R\bin\R.exe CMD INSTALL --build --library=bacon.buildbin-libdir bacon_1.28.0.tar.gz StartedAt: 2023-10-16 08:26:13 -0400 (Mon, 16 Oct 2023) EndedAt: 2023-10-16 08:26:25 -0400 (Mon, 16 Oct 2023) EllapsedTime: 12.5 seconds RetCode: 0 Status: OK PackageFile: bacon_1.28.0.zip PackageFileSize: 763.5 KiB