Package: bacon Version: 1.28.0 Command: /Library/Frameworks/R.framework/Resources/bin/R CMD INSTALL bacon StartedAt: 2023-10-15 15:20:28 -0400 (Sun, 15 Oct 2023) EndedAt: 2023-10-15 15:20:47 -0400 (Sun, 15 Oct 2023) EllapsedTime: 18.5 seconds RetCode: 0 Status: OK