Package: bacon Version: 1.28.0 Command: /Library/Frameworks/R.framework/Resources/bin/R CMD build --keep-empty-dirs --no-resave-data bacon StartedAt: 2023-10-15 16:47:23 -0400 (Sun, 15 Oct 2023) EndedAt: 2023-10-15 16:48:42 -0400 (Sun, 15 Oct 2023) EllapsedTime: 79.4 seconds RetCode: 0 Status: OK PackageFile: bacon_1.28.0.tar.gz PackageFileSize: 1.799 MiB