Package: arrayQualityMetrics Version: 3.56.0 Command: /home/biocbuild/bbs-3.17-bioc/R/bin/R CMD build --keep-empty-dirs --no-resave-data arrayQualityMetrics StartedAt: 2023-10-15 15:56:16 -0400 (Sun, 15 Oct 2023) EndedAt: 2023-10-15 16:04:16 -0400 (Sun, 15 Oct 2023) EllapsedTime: 479.9 seconds RetCode: 0 Status: OK PackageFile: arrayQualityMetrics_3.56.0.tar.gz PackageFileSize: 597.8 KiB