Package: arrayMvout Version: 1.58.0 Command: F:\biocbuild\bbs-3.17-bioc\R\bin\R.exe CMD check --no-multiarch --install=check:arrayMvout.install-out.txt --library=F:\biocbuild\bbs-3.17-bioc\R\library --no-vignettes --timings arrayMvout_1.58.0.tar.gz StartedAt: 2023-10-15 23:29:59 -0400 (Sun, 15 Oct 2023) EndedAt: 2023-10-15 23:34:38 -0400 (Sun, 15 Oct 2023) EllapsedTime: 279.9 seconds RetCode: 0 Status: OK CheckDir: arrayMvout.Rcheck Warnings: 0