Package: apeglm Version: 1.22.1 Command: /Library/Frameworks/R.framework/Resources/bin/R CMD build --keep-empty-dirs --no-resave-data apeglm StartedAt: 2023-10-15 16:43:33 -0400 (Sun, 15 Oct 2023) EndedAt: 2023-10-15 16:47:42 -0400 (Sun, 15 Oct 2023) EllapsedTime: 249.3 seconds RetCode: 0 Status: OK PackageFile: apeglm_1.22.1.tar.gz PackageFileSize: 1.076 MiB