Package: anota2seq Version: 1.22.0 Command: /home/biocbuild/bbs-3.17-bioc/R/bin/R CMD check --install=check:anota2seq.install-out.txt --library=/home/biocbuild/bbs-3.17-bioc/R/site-library --timings anota2seq_1.22.0.tar.gz StartedAt: 2023-10-15 19:12:27 -0400 (Sun, 15 Oct 2023) EndedAt: 2023-10-15 19:18:10 -0400 (Sun, 15 Oct 2023) EllapsedTime: 342.7 seconds RetCode: 0 Status: WARNINGS CheckDir: anota2seq.Rcheck Warnings: 1