Package: anota Version: 1.48.0 Command: /home/biocbuild/bbs-3.17-bioc/R/bin/R CMD build --keep-empty-dirs --no-resave-data anota StartedAt: 2023-10-15 15:55:31 -0400 (Sun, 15 Oct 2023) EndedAt: 2023-10-15 15:55:56 -0400 (Sun, 15 Oct 2023) EllapsedTime: 25.2 seconds RetCode: 0 Status: OK PackageFile: anota_1.48.0.tar.gz PackageFileSize: 827 KiB