Package: alabaster.vcf Version: 1.0.0 Command: F:\biocbuild\bbs-3.17-bioc\R\bin\R.exe CMD INSTALL alabaster.vcf StartedAt: 2023-10-15 16:53:16 -0400 (Sun, 15 Oct 2023) EndedAt: 2023-10-15 16:54:02 -0400 (Sun, 15 Oct 2023) EllapsedTime: 45.8 seconds RetCode: 0 Status: OK