Package: alabaster.vcf Version: 1.0.0 Command: rm -rf alabaster.vcf.buildbin-libdir && mkdir alabaster.vcf.buildbin-libdir && F:\biocbuild\bbs-3.17-bioc\R\bin\R.exe CMD INSTALL --build --library=alabaster.vcf.buildbin-libdir alabaster.vcf_1.0.0.tar.gz StartedAt: 2023-10-16 08:24:00 -0400 (Mon, 16 Oct 2023) EndedAt: 2023-10-16 08:24:48 -0400 (Mon, 16 Oct 2023) EllapsedTime: 48.1 seconds RetCode: 0 Status: OK PackageFile: alabaster.vcf_1.0.0.zip PackageFileSize: 279.3 KiB