Package: alabaster.vcf Version: 1.0.0 Command: rm -rf alabaster.vcf.buildbin-libdir && mkdir alabaster.vcf.buildbin-libdir && /Users/biocbuild/BBS/utils/build-universal.sh alabaster.vcf_1.0.0.tar.gz /Library/Frameworks/R.framework/Resources/bin/R alabaster.vcf.buildbin-libdir StartedAt: 2023-10-16 08:56:45 -0400 (Mon, 16 Oct 2023) EndedAt: 2023-10-16 08:59:05 -0400 (Mon, 16 Oct 2023) EllapsedTime: 139.7 seconds RetCode: 0 Status: OK PackageFile: alabaster.vcf_1.0.0.tgz PackageFileSize: 274.2 KiB