Package: alabaster.bumpy Version: 1.0.0 Command: F:\biocbuild\bbs-3.17-bioc\R\bin\R.exe CMD check --no-multiarch --install=check:alabaster.bumpy.install-out.txt --library=F:\biocbuild\bbs-3.17-bioc\R\library --no-vignettes --timings alabaster.bumpy_1.0.0.tar.gz StartedAt: 2023-10-15 23:20:48 -0400 (Sun, 15 Oct 2023) EndedAt: 2023-10-15 23:22:14 -0400 (Sun, 15 Oct 2023) EllapsedTime: 85.5 seconds RetCode: 0 Status: OK CheckDir: alabaster.bumpy.Rcheck Warnings: 0