Package: alabaster.bumpy Version: 1.0.0 Command: /Library/Frameworks/R.framework/Resources/bin/R CMD check --install=check:alabaster.bumpy.install-out.txt --library=/Library/Frameworks/R.framework/Resources/library --no-vignettes --timings alabaster.bumpy_1.0.0.tar.gz StartedAt: 2023-10-15 22:23:31 -0400 (Sun, 15 Oct 2023) EndedAt: 2023-10-15 22:27:12 -0400 (Sun, 15 Oct 2023) EllapsedTime: 220.3 seconds RetCode: 0 Status: OK CheckDir: alabaster.bumpy.Rcheck Warnings: 0