Package: Xeva Version: 1.16.0 Command: chmod a+r Xeva -R && F:\biocbuild\bbs-3.17-bioc\R\bin\R.exe CMD build --keep-empty-dirs --no-resave-data Xeva StartedAt: 2023-10-15 23:07:10 -0400 (Sun, 15 Oct 2023) EndedAt: 2023-10-15 23:08:27 -0400 (Sun, 15 Oct 2023) EllapsedTime: 76.9 seconds RetCode: 0 Status: OK PackageFile: Xeva_1.16.0.tar.gz PackageFileSize: 1.57 MiB