Package: Voyager Version: 1.2.7 Command: /home/biocbuild/bbs-3.17-bioc/R/bin/R CMD check --install=check:Voyager.install-out.txt --library=/home/biocbuild/bbs-3.17-bioc/R/site-library --timings Voyager_1.2.7.tar.gz StartedAt: 2023-10-16 02:05:06 -0400 (Mon, 16 Oct 2023) EndedAt: 2023-10-16 02:17:17 -0400 (Mon, 16 Oct 2023) EllapsedTime: 731.2 seconds RetCode: 0 Status: OK CheckDir: Voyager.Rcheck Warnings: 0