Package: ViSEAGO Version: 1.14.0 Command: /home/biocbuild/bbs-3.17-bioc/R/bin/R CMD check --install=check:ViSEAGO.install-out.txt --library=/home/biocbuild/bbs-3.17-bioc/R/site-library --timings ViSEAGO_1.14.0.tar.gz StartedAt: 2023-10-16 02:04:55 -0400 (Mon, 16 Oct 2023) EndedAt: 2023-10-16 02:08:42 -0400 (Mon, 16 Oct 2023) EllapsedTime: 226.5 seconds RetCode: 0 Status: WARNINGS CheckDir: ViSEAGO.Rcheck Warnings: 3