Package: VaSP Version: 1.12.0 Command: /Library/Frameworks/R.framework/Resources/bin/R CMD build --keep-empty-dirs --no-resave-data VaSP StartedAt: 2023-10-15 22:03:35 -0400 (Sun, 15 Oct 2023) EndedAt: 2023-10-15 22:05:22 -0400 (Sun, 15 Oct 2023) EllapsedTime: 106.8 seconds RetCode: 0 Status: OK PackageFile: VaSP_1.12.0.tar.gz PackageFileSize: 8.456 MiB