Package: Ularcirc Version: 1.18.0 Command: rm -rf Ularcirc.buildbin-libdir && mkdir Ularcirc.buildbin-libdir && F:\biocbuild\bbs-3.17-bioc\R\bin\R.exe CMD INSTALL --build --library=Ularcirc.buildbin-libdir Ularcirc_1.18.0.tar.gz StartedAt: 2023-10-16 09:41:28 -0400 (Mon, 16 Oct 2023) EndedAt: 2023-10-16 09:41:43 -0400 (Mon, 16 Oct 2023) EllapsedTime: 15.5 seconds RetCode: 0 Status: OK PackageFile: Ularcirc_1.18.0.zip PackageFileSize: 4.854 MiB