Package: Ularcirc Version: 1.18.0 Command: /Library/Frameworks/R.framework/Resources/bin/R CMD check --install=check:Ularcirc.install-out.txt --library=/Library/Frameworks/R.framework/Resources/library --no-vignettes --timings Ularcirc_1.18.0.tar.gz StartedAt: 2023-10-16 08:21:47 -0400 (Mon, 16 Oct 2023) EndedAt: 2023-10-16 08:26:27 -0400 (Mon, 16 Oct 2023) EllapsedTime: 280.6 seconds RetCode: 0 Status: WARNINGS CheckDir: Ularcirc.Rcheck Warnings: 1