Package: TreeAndLeaf Version: 1.12.0 Command: /home/biocbuild/bbs-3.17-bioc/R/bin/R CMD check --install=check:TreeAndLeaf.install-out.txt --library=/home/biocbuild/bbs-3.17-bioc/R/site-library --timings TreeAndLeaf_1.12.0.tar.gz StartedAt: 2023-10-16 01:52:27 -0400 (Mon, 16 Oct 2023) EndedAt: 2023-10-16 01:52:57 -0400 (Mon, 16 Oct 2023) EllapsedTime: 30.3 seconds RetCode: 0 Status: OK CheckDir: TreeAndLeaf.Rcheck Warnings: 0