Package: TreeAndLeaf Version: 1.12.0 Command: rm -rf TreeAndLeaf.buildbin-libdir && mkdir TreeAndLeaf.buildbin-libdir && /Users/biocbuild/BBS/utils/build-universal.sh TreeAndLeaf_1.12.0.tar.gz /Library/Frameworks/R.framework/Resources/bin/R TreeAndLeaf.buildbin-libdir StartedAt: 2023-10-16 10:22:40 -0400 (Mon, 16 Oct 2023) EndedAt: 2023-10-16 10:22:54 -0400 (Mon, 16 Oct 2023) EllapsedTime: 13.8 seconds RetCode: 0 Status: OK PackageFile: TreeAndLeaf_1.12.0.tgz PackageFileSize: 3.178 MiB