Package: ToxicoGx Version: 2.4.0 Command: rm -rf ToxicoGx.buildbin-libdir && mkdir ToxicoGx.buildbin-libdir && /Users/biocbuild/BBS/utils/build-universal.sh ToxicoGx_2.4.0.tar.gz /Library/Frameworks/R.framework/Resources/bin/R ToxicoGx.buildbin-libdir StartedAt: 2023-10-16 10:22:08 -0400 (Mon, 16 Oct 2023) EndedAt: 2023-10-16 10:24:06 -0400 (Mon, 16 Oct 2023) EllapsedTime: 117.9 seconds RetCode: 0 Status: OK PackageFile: ToxicoGx_2.4.0.tgz PackageFileSize: 4.367 MiB