Package: TissueEnrich Version: 1.20.0 Command: /Library/Frameworks/R.framework/Resources/bin/R CMD check --install=check:TissueEnrich.install-out.txt --library=/Library/Frameworks/R.framework/Resources/library --no-vignettes --timings TissueEnrich_1.20.0.tar.gz StartedAt: 2023-10-16 08:04:04 -0400 (Mon, 16 Oct 2023) EndedAt: 2023-10-16 08:12:20 -0400 (Mon, 16 Oct 2023) EllapsedTime: 495.7 seconds RetCode: 0 Status: OK CheckDir: TissueEnrich.Rcheck Warnings: 0