Package: TissueEnrich Version: 1.20.0 Command: /Library/Frameworks/R.framework/Resources/bin/R CMD build --keep-empty-dirs --no-resave-data TissueEnrich StartedAt: 2023-10-15 21:54:49 -0400 (Sun, 15 Oct 2023) EndedAt: 2023-10-15 21:56:44 -0400 (Sun, 15 Oct 2023) EllapsedTime: 114.8 seconds RetCode: 0 Status: OK PackageFile: TissueEnrich_1.20.0.tar.gz PackageFileSize: 3.626 MiB