Package: TissueEnrich Version: 1.20.0 Command: rm -rf TissueEnrich.buildbin-libdir && mkdir TissueEnrich.buildbin-libdir && /Users/biocbuild/BBS/utils/build-universal.sh TissueEnrich_1.20.0.tar.gz /Library/Frameworks/R.framework/Resources/bin/R TissueEnrich.buildbin-libdir StartedAt: 2023-10-16 10:21:26 -0400 (Mon, 16 Oct 2023) EndedAt: 2023-10-16 10:22:58 -0400 (Mon, 16 Oct 2023) EllapsedTime: 92.1 seconds RetCode: 0 Status: OK PackageFile: TissueEnrich_1.20.0.tgz PackageFileSize: 3.652 MiB