Package: TimiRGeN Version: 1.10.0 Command: /home/biocbuild/bbs-3.17-bioc/R/bin/R CMD INSTALL TimiRGeN StartedAt: 2023-10-15 15:36:22 -0400 (Sun, 15 Oct 2023) EndedAt: 2023-10-15 15:37:01 -0400 (Sun, 15 Oct 2023) EllapsedTime: 38.9 seconds RetCode: 0 Status: OK