Package: TimiRGeN Version: 1.10.0 Command: /home/biocbuild/bbs-3.17-bioc/R/bin/R CMD check --install=check:TimiRGeN.install-out.txt --library=/home/biocbuild/bbs-3.17-bioc/R/site-library --timings TimiRGeN_1.10.0.tar.gz StartedAt: 2023-10-16 01:46:16 -0400 (Mon, 16 Oct 2023) EndedAt: 2023-10-16 01:51:38 -0400 (Mon, 16 Oct 2023) EllapsedTime: 322.1 seconds RetCode: 1 Status: ERROR CheckDir: TimiRGeN.Rcheck Warnings: NA