Package: TargetSearch Version: 2.2.0 Command: chmod a+r TargetSearch -R && F:\biocbuild\bbs-3.17-bioc\R\bin\R.exe CMD build --keep-empty-dirs --no-resave-data TargetSearch StartedAt: 2023-10-15 22:48:08 -0400 (Sun, 15 Oct 2023) EndedAt: 2023-10-15 22:49:13 -0400 (Sun, 15 Oct 2023) EllapsedTime: 64.5 seconds RetCode: 0 Status: OK PackageFile: TargetSearch_2.2.0.tar.gz PackageFileSize: 703 KiB