Package: TargetScore Version: 1.38.0 Command: /home/biocbuild/bbs-3.17-bioc/R/bin/R CMD check --install=check:TargetScore.install-out.txt --library=/home/biocbuild/bbs-3.17-bioc/R/site-library --timings TargetScore_1.38.0.tar.gz StartedAt: 2023-10-16 01:40:45 -0400 (Mon, 16 Oct 2023) EndedAt: 2023-10-16 01:41:41 -0400 (Mon, 16 Oct 2023) EllapsedTime: 55.3 seconds RetCode: 0 Status: OK CheckDir: TargetScore.Rcheck Warnings: 0