Package: TargetScore Version: 1.38.0 Command: /Library/Frameworks/R.framework/Resources/bin/R CMD check --install=check:TargetScore.install-out.txt --library=/Library/Frameworks/R.framework/Resources/library --no-vignettes --timings TargetScore_1.38.0.tar.gz StartedAt: 2023-10-16 07:55:10 -0400 (Mon, 16 Oct 2023) EndedAt: 2023-10-16 07:56:47 -0400 (Mon, 16 Oct 2023) EllapsedTime: 97.3 seconds RetCode: 0 Status: OK CheckDir: TargetScore.Rcheck Warnings: 0