Package: TOP Version: 1.0.0 Command: /home/biocbuild/bbs-3.17-bioc/R/bin/R CMD check --install=check:TOP.install-out.txt --library=/home/biocbuild/bbs-3.17-bioc/R/site-library --timings TOP_1.0.0.tar.gz StartedAt: 2023-10-16 01:48:26 -0400 (Mon, 16 Oct 2023) EndedAt: 2023-10-16 01:52:27 -0400 (Mon, 16 Oct 2023) EllapsedTime: 240.5 seconds RetCode: 0 Status: OK CheckDir: TOP.Rcheck Warnings: 0