Package: TOP Version: 1.0.0 Command: /Library/Frameworks/R.framework/Resources/bin/R CMD INSTALL TOP StartedAt: 2023-10-15 16:25:33 -0400 (Sun, 15 Oct 2023) EndedAt: 2023-10-15 16:27:12 -0400 (Sun, 15 Oct 2023) EllapsedTime: 99.0 seconds RetCode: 0 Status: OK